BEGIN:VCALENDAR
VERSION:2.0
PRODID:-//The Scripteasers - ECPv6.15.20//NONSGML v1.0//EN
CALSCALE:GREGORIAN
METHOD:PUBLISH
X-WR-CALNAME:The Scripteasers
X-ORIGINAL-URL:https://scripteasers.org
X-WR-CALDESC:Events for The Scripteasers
REFRESH-INTERVAL;VALUE=DURATION:PT1H
X-Robots-Tag:noindex
X-PUBLISHED-TTL:PT1H
BEGIN:VTIMEZONE
TZID:America/Los_Angeles
BEGIN:DAYLIGHT
TZOFFSETFROM:-0800
TZOFFSETTO:-0700
TZNAME:PDT
DTSTART:20230312T100000
END:DAYLIGHT
BEGIN:STANDARD
TZOFFSETFROM:-0700
TZOFFSETTO:-0800
TZNAME:PST
DTSTART:20231105T090000
END:STANDARD
BEGIN:DAYLIGHT
TZOFFSETFROM:-0800
TZOFFSETTO:-0700
TZNAME:PDT
DTSTART:20240310T100000
END:DAYLIGHT
BEGIN:STANDARD
TZOFFSETFROM:-0700
TZOFFSETTO:-0800
TZNAME:PST
DTSTART:20241103T090000
END:STANDARD
BEGIN:DAYLIGHT
TZOFFSETFROM:-0800
TZOFFSETTO:-0700
TZNAME:PDT
DTSTART:20250309T100000
END:DAYLIGHT
BEGIN:STANDARD
TZOFFSETFROM:-0700
TZOFFSETTO:-0800
TZNAME:PST
DTSTART:20251102T090000
END:STANDARD
END:VTIMEZONE
BEGIN:VEVENT
DTSTART;TZID=America/Los_Angeles:20240412T193000
DTEND;TZID=America/Los_Angeles:20240412T220000
DTSTAMP:20260424T201400
CREATED:20240316T180656Z
LAST-MODIFIED:20240405T083428Z
UID:10017-1712950200-1712959200@scripteasers.org
SUMMARY:April 12\, 2024 -- Marley Bauer + Connie Terwilliger
DESCRIPTION:A Night of One-Acts \nBREAK ROOM\, by Marley BauerBREAK ROOM is a play about the discussions coworkers have on company time\, and what truths they keep from their coworkers. It also touches on the constant grind many people find themselves in as they work to survive in modern-day America. \nDATING AGE\, by Connie TerwilligerNo matter how old you are\, dating is tough. If you are just getting back into it\, it’s good to get good information from people in the dating trenches and commit it to memory. \nAbout the Authors… \nMarley Bauer is a San-Diego based author and actor. He’s been seen onstage recently at Scripps Ranch Theatre’s production of The 39 Steps and Oceanside Theatre Company’s production of Chicken and Biscuits. His work has been published in Elegant Magazine. He graduated from CSU Long Beach with a degree in Theatre Arts in 2021. \nConnie Terwilliger: With the staging of her first play Silkworms\, Connie realizes she has a lot to learn about the craft of playwriting. Connie is a long-time script writer for corporate communications videos and newsletters. As she eases into retirement\, she is working on fiction-based writing. She still works as a voice talent and performs onstage at San Diego Community Theaters.  She was awarded an Aubrey for her role as Rose in Rose and Walsh. \n                \n Marley Bauer                   Connie Terwilliger
URL:https://scripteasers.org/event/april-12-2024-tba/
END:VEVENT
BEGIN:VEVENT
DTSTART;TZID=America/Los_Angeles:20240426T193000
DTEND;TZID=America/Los_Angeles:20240426T220000
DTSTAMP:20260424T201400
CREATED:20240316T180929Z
LAST-MODIFIED:20240416T045955Z
UID:10021-1714159800-1714168800@scripteasers.org
SUMMARY:April 26\, 2024 -- TREE\, by Benjamin Monts
DESCRIPTION:THE TREE (THAT WOULDN’T FRUIT)\, by Benjamin Monts\nAngela hurriedly prepares the family garden as she waits for her children to come home. As a storm brews and draws closer\, we peer deeper into this story about love\, grief and family. \nAbout the Author… \nBenjamin Monts (he/him/his) is a San Diego based actor who studied Theatre & Creative Works at Cornish College of the Arts in Seattle\, Washington. His past works include Ensemble: The Musical (Toronto 2019\, San Diego 2023)\, Trying: A New Musical (2023 Larson Grant Finalist)\, and his series Play On\, which includes 11 different original works written by Monts himself. \n \nBenjamin Monts
URL:https://scripteasers.org/event/10021/
END:VEVENT
END:VCALENDAR