BEGIN:VCALENDAR
VERSION:2.0
PRODID:-//The Scripteasers - ECPv6.15.20//NONSGML v1.0//EN
CALSCALE:GREGORIAN
METHOD:PUBLISH
X-WR-CALNAME:The Scripteasers
X-ORIGINAL-URL:https://scripteasers.org
X-WR-CALDESC:Events for The Scripteasers
REFRESH-INTERVAL;VALUE=DURATION:PT1H
X-Robots-Tag:noindex
X-PUBLISHED-TTL:PT1H
BEGIN:VTIMEZONE
TZID:America/Los_Angeles
BEGIN:DAYLIGHT
TZOFFSETFROM:-0800
TZOFFSETTO:-0700
TZNAME:PDT
DTSTART:20230312T100000
END:DAYLIGHT
BEGIN:STANDARD
TZOFFSETFROM:-0700
TZOFFSETTO:-0800
TZNAME:PST
DTSTART:20231105T090000
END:STANDARD
BEGIN:DAYLIGHT
TZOFFSETFROM:-0800
TZOFFSETTO:-0700
TZNAME:PDT
DTSTART:20240310T100000
END:DAYLIGHT
BEGIN:STANDARD
TZOFFSETFROM:-0700
TZOFFSETTO:-0800
TZNAME:PST
DTSTART:20241103T090000
END:STANDARD
BEGIN:DAYLIGHT
TZOFFSETFROM:-0800
TZOFFSETTO:-0700
TZNAME:PDT
DTSTART:20250309T100000
END:DAYLIGHT
BEGIN:STANDARD
TZOFFSETFROM:-0700
TZOFFSETTO:-0800
TZNAME:PST
DTSTART:20251102T090000
END:STANDARD
END:VTIMEZONE
BEGIN:VEVENT
DTSTART;TZID=America/Los_Angeles:20240510T193000
DTEND;TZID=America/Los_Angeles:20240510T220000
DTSTAMP:20260424T183138
CREATED:20240316T181302Z
LAST-MODIFIED:20240505T225313Z
UID:10025-1715369400-1715378400@scripteasers.org
SUMMARY:May 10\, 2024 -- Mike Stewart + Marc Biagi
DESCRIPTION:Friday\, May 10\, 2024 \nAll readings begin promptly at 7:30 p.m._______________________________ \nAn Evening of One-Acts \nJEFF’S LEFTOVERS\, by Marc BiagiIn this short one-act\, a group of friends gather for Thanksgiving and find out that what’s left on the table aren’t the only leftovers… \nNIXON WILL DO THE DISHES!\, by Mike StewartA story of a married couple arguing about doing the dishes. And they also happen to be a former United States President and First Lady. \nAbout the Authors… \nMarc Biagi: A member and popular actor/reader for The Scripteasers\, Marc is a professional actor focusing mostly on his voice and on-camera acting. He has performed in video games\, animation\, industrials\, commercials\, plays\, films and\, lately\, audiobooks. He’s studied Shakespearean theatre\, performed improv\, and written and performed sketch comedy. This is his first attempt at writing a play – having been inspired by a prompt. Has he succeeded? You be the judge! \nMike Stewart is semi-retired and is studying art and writing. He has had two short stories published as he explores the craft of writing novels and plays. \n    \nMarc Biagi \n       Mike Stewart \n_______________________________ \nModerator: Ha Nguyen \nTo join the reading\, paste this link into your browser: https://us02web.zoom.us/j/85470233317
URL:https://scripteasers.org/event/10025/
END:VEVENT
BEGIN:VEVENT
DTSTART;TZID=America/Los_Angeles:20240524T193000
DTEND;TZID=America/Los_Angeles:20240524T220000
DTSTAMP:20260424T183138
CREATED:20240331T061021Z
LAST-MODIFIED:20240522T095508Z
UID:10269-1716579000-1716588000@scripteasers.org
SUMMARY:May 24\, 2024 -- Laura Gracie + Roger Henry
DESCRIPTION:An Evening of Two One-Acts \nMONTE AZUL\, by Laura GracieA whimsical play showing an older woman’s wish to return to her hometown and the ensuing conflict with her daughter. \nRAPID UNSCHEDULED DISASSEMBLY\, by Roger M. HenryIsn’t it crazy when you run into an old friend at the market? And\, isn’t it crazy how many luxuries and opportunities are available in that market? And\, come to think of it\, isn’t it crazy with the amount of civil liberties we take for granted in this country? Or maybe it’s just you. Either way\, it’s probably time to burn it all down. \nAbout the Authors… \nLaura Gracie took her first acting class in 2015 and got her first role the following year at the Coronado Playhouse production of “Hamlet.” More recently she has been seen as Alcandre in “The Illusion” (Mesa College Theater Company) and as Mari Ramirez in “Transported” (PowPac)\, for which she won the Lead Role PowPac 2021-2022 Season Award. She also took part in the Scripteasers 75th Anniversary celebration. Laura has taken playwriting courses at Mesa College. She is a scientist working in drug discovery for cancer and fibrosis. \nRoger Henry started writing screenplays and stageplays in 2021. His dramedy A FUNNY THING HAPPENED ON THE WAY TO THE AFTERLIFE won first prize in the San Diego Stripteasers’ 2022 competition. Since then\, he has had plays produced from San Diego to New York. When not writing\, he works in construction management\, volunteers with Scouts BSA\, and enjoys the San Diego theatre scene. \nModerator: Susan Gembrowski \n     \n               Laura Gracie                                                   Roger M. Henry
URL:https://scripteasers.org/event/may-24-2024-monte-azul-by-laura-gracie/
END:VEVENT
END:VCALENDAR