BEGIN:VCALENDAR
VERSION:2.0
PRODID:-//The Scripteasers - ECPv6.15.20//NONSGML v1.0//EN
CALSCALE:GREGORIAN
METHOD:PUBLISH
X-ORIGINAL-URL:https://scripteasers.org
X-WR-CALDESC:Events for The Scripteasers
REFRESH-INTERVAL;VALUE=DURATION:PT1H
X-Robots-Tag:noindex
X-PUBLISHED-TTL:PT1H
BEGIN:VTIMEZONE
TZID:America/Los_Angeles
BEGIN:DAYLIGHT
TZOFFSETFROM:-0800
TZOFFSETTO:-0700
TZNAME:PDT
DTSTART:20230312T100000
END:DAYLIGHT
BEGIN:STANDARD
TZOFFSETFROM:-0700
TZOFFSETTO:-0800
TZNAME:PST
DTSTART:20231105T090000
END:STANDARD
BEGIN:DAYLIGHT
TZOFFSETFROM:-0800
TZOFFSETTO:-0700
TZNAME:PDT
DTSTART:20240310T100000
END:DAYLIGHT
BEGIN:STANDARD
TZOFFSETFROM:-0700
TZOFFSETTO:-0800
TZNAME:PST
DTSTART:20241103T090000
END:STANDARD
BEGIN:DAYLIGHT
TZOFFSETFROM:-0800
TZOFFSETTO:-0700
TZNAME:PDT
DTSTART:20250309T100000
END:DAYLIGHT
BEGIN:STANDARD
TZOFFSETFROM:-0700
TZOFFSETTO:-0800
TZNAME:PST
DTSTART:20251102T090000
END:STANDARD
END:VTIMEZONE
BEGIN:VEVENT
DTSTART;TZID=America/Los_Angeles:20240906T080000
DTEND;TZID=America/Los_Angeles:20240906T170000
DTSTAMP:20260424T123944
CREATED:20240907T044426Z
LAST-MODIFIED:20240907T051439Z
UID:11364-1725609600-1725642000@scripteasers.org
SUMMARY:Reading Friday September 13\, 2024
DESCRIPTION:Our first post-hiatus Zoom reading!\n \nQUEEN OF LUCIA by Lisa Balderston\nA married couple retreats to a secluded cottage for a long weekend\, hoping to find peace and strengthen their bond despite the wife’s struggle with bipolar disorder. As they seek solutions\, her unpredictable mood swings challenge their efforts\, revealing the strain of living with mental illness.\n \nLisa’s Bio:\nLisa Balderston earned a B.A. in English from San Diego State University and M.A. in Creative Writing and Literature from Fairleigh Dickinson University. She is a professor at Point Loma Nazarene University.  Productions include Transported\, Life by Numbers\, and T.M.I. She is a Board Member with the Playwrights Project and volunteers with the Playhouse Leadership Council at the La Jolla Playhouse \n\nModerator: Marielle Vizcarra \n 
URL:https://scripteasers.org/event/reading-friday-september-13-2024/
END:VEVENT
BEGIN:VEVENT
DTSTART;TZID=America/Los_Angeles:20240913T193000
DTEND;TZID=America/Los_Angeles:20240913T220000
DTSTAMP:20260424T123944
CREATED:20240621T142937Z
LAST-MODIFIED:20240725T134532Z
UID:10986-1726255800-1726264800@scripteasers.org
SUMMARY:Fri.\, Sept. 13\, 2024 -- beginning of a New Year
DESCRIPTION:NEXT READING: Friday\, September 13\, 2024 \nWhat? No readings of new plays from local writers until…September 13? \nYep\, you got it. The Scripteasers takes a HIATUS from public Zoom readings every year during the months of July and August during which time we read contest submissions – ALL of them! And\, if you listen very hard\, you might even hear the scratching sound of red pencils making indelible comments in the margins of all the plays submitted to our annual contest\, “Script Tease of Short Plays.” OK\, just take my word for it\, our contest committee and judges are nearly wearing their eyeballs out while burning the midnight oil reading through all these tons of submissions to decide who gets the Cash Prizes. Winners to be announced around September 01\, 2024. \nWe’ll gear up again for readings in the fall. If you’re not on our mailing list\, send your email address to: info@scripteasers.org. In the meantime\, support our San Diego theater community by going to see a local play. It’s the best way to keep original theater alive. Enjoy your summer. We look forward to seeing you again on Friday\, September 13\, at 7:30. \n																										 \nThe Scripteasers thanks you for your support and contributions for our 2023-2024 reading year and beyond. Please visit our donations page and do what you can to help us continue our work to support the San Diego theatre community with free presentations every second and fourth Friday of the month.
URL:https://scripteasers.org/event/fri-sept-13-2024-beginning-of-a-new-year/
END:VEVENT
BEGIN:VEVENT
DTSTART;TZID=America/Los_Angeles:20240927T193000
DTEND;TZID=America/Los_Angeles:20240927T220000
DTSTAMP:20260424T123944
CREATED:20240628T055216Z
LAST-MODIFIED:20240923T175952Z
UID:11042-1727465400-1727474400@scripteasers.org
SUMMARY:Sept. 27\, 2024 -- More plays
DESCRIPTION:A Night of One-Acts \n“The Circle” by Heath Houseman (2024 Contest Honorable Mention and Judges’ Favorite.) \nA brokenhearted white South African must confront his grief when his multiracial family convinces him to take a journey with them to a mysterious circle his father built deep in the Colorado mountains. \n“The Reunion” by Greg McAfee \nThe play unfolds in a neighborhood coffee shop where Taylor\, a regular patron\, unexpectedly encounters their significant other\, Jordan. As old and new connections collide\, relationships are explored\, leading to awkward encounters. \nAbout the authors: \nHeath Houseman: Heath is a produced and published Canadian-American playwright\, screenwriter\, poet\, and freelancer\, whose work has appeared in Punchnel’s\, Dear Booze\, and Heartland Plays Inc. Heath’s two-act play\, “Burning Vonnegut\,” won the Limelight Theatre’s 2nd Annual Playwright Competition and received an AEA production. In 2021\, his short play “Black Irish” was produced at the Columbus Black Theatre Festival. Columbus film director Jabari Cole and his production company\, Restless Multimedia\, acquired the film rights\, and filming wrapped December\, 2022. Freelance work includes critiques for the Los Angeles Theatre Center\, Bifrost Pictures\, and a motley crew of screenwriters\, playwrights\, authors\, and dreamers. \nGreg McAfee is a playwright and voice actor who lives in San Diego\, California. Greg writes Rex Rivetter: Private Eye\, an award-winning audio-drama with listeners in 38 countries around the world. His stage plays include Shifting Paradigms\, Indiscretion\, The Carousel\, and Plunder. He has also written for WriteOutLoud’s Twainfest\, Amigo del REP’s Historias Tenebrosas\, and The MENding Monologues\, which won Best Testimonial in the 2014 San Diego Fringe Festival. Greg is the recipient of the Nick Danger prize\, a Mark Time award. \nModerator: Mitch Feingold \n  \n\n										Heath Houseman\n\n										Greg McAfee
URL:https://scripteasers.org/event/sept-27-2024-more-plays/
END:VEVENT
END:VCALENDAR