BEGIN:VCALENDAR
VERSION:2.0
PRODID:-//The Scripteasers - ECPv6.15.20//NONSGML v1.0//EN
CALSCALE:GREGORIAN
METHOD:PUBLISH
X-WR-CALNAME:The Scripteasers
X-ORIGINAL-URL:https://scripteasers.org
X-WR-CALDESC:Events for The Scripteasers
REFRESH-INTERVAL;VALUE=DURATION:PT1H
X-Robots-Tag:noindex
X-PUBLISHED-TTL:PT1H
BEGIN:VTIMEZONE
TZID:America/Los_Angeles
BEGIN:DAYLIGHT
TZOFFSETFROM:-0800
TZOFFSETTO:-0700
TZNAME:PDT
DTSTART:20230312T100000
END:DAYLIGHT
BEGIN:STANDARD
TZOFFSETFROM:-0700
TZOFFSETTO:-0800
TZNAME:PST
DTSTART:20231105T090000
END:STANDARD
BEGIN:DAYLIGHT
TZOFFSETFROM:-0800
TZOFFSETTO:-0700
TZNAME:PDT
DTSTART:20240310T100000
END:DAYLIGHT
BEGIN:STANDARD
TZOFFSETFROM:-0700
TZOFFSETTO:-0800
TZNAME:PST
DTSTART:20241103T090000
END:STANDARD
BEGIN:DAYLIGHT
TZOFFSETFROM:-0800
TZOFFSETTO:-0700
TZNAME:PDT
DTSTART:20250309T100000
END:DAYLIGHT
BEGIN:STANDARD
TZOFFSETFROM:-0700
TZOFFSETTO:-0800
TZNAME:PST
DTSTART:20251102T090000
END:STANDARD
END:VTIMEZONE
BEGIN:VEVENT
DTSTART;TZID=America/Los_Angeles:20241213T193000
DTEND;TZID=America/Los_Angeles:20241213T220000
DTSTAMP:20260424T081459
CREATED:20241125T010427Z
LAST-MODIFIED:20241125T014925Z
UID:11922-1734118200-1734127200@scripteasers.org
SUMMARY:Dec. 13\, 2024 -- R. Fouts + Peter M. one-acts
DESCRIPTION:An Evening of Two One-Acts\nSTRANGERS IN THE NIGHT\, by Richard FoutsTwo strangers\, realizing they’ll never see each other again\, feel free to share their intimate pasts. \nTHE DOOR TO THE WORLD\, by Peter MitsopoulosFiona Bonner wants to pawn her grandfather’s watch so she can pay for some plastic surgery. But the watch is in a safe deposit box\, the key to which can’t be found. And Fiona’s mother\, Nadine\, doesn’t care because she’s planning to hike the Appalachian Trail. \nModerator: Amy Dell \nRichard Fouts’s work has been produced in San Francisco\, New York\, Washington\, D.C. and San Diego. His first play about the Vietnam Draft\, premiered in 2017 to sold-out audiences at Z-Space\, San Francisco. His other works\, “Leaving Lebanon”\, “When the Moon is in the Second House”\, and “Fast Moving Consume Goods” have been recognized by The Scripteasers.  His play\, “Summer Me\, Winter Me”\, which got its start at The Scripteasers was recently produced in Washington\, D.C. and Carmel\, CA. \nPeter Mitsopoulos was born in San Diego and still lives there. He has had a few one-acts produced in his local area. In February of 2024 one of his short plays was staged in New York. He was a 2023 finalist for a Dramatists Guild Foundation Grant. \nRichard Fouts \nPeter Mitsopoulos
URL:https://scripteasers.org/event/dec-13-2024-r-fouts-peter-m-one-acts/
END:VEVENT
END:VCALENDAR