BEGIN:VCALENDAR
VERSION:2.0
PRODID:-//The Scripteasers - ECPv6.15.20//NONSGML v1.0//EN
CALSCALE:GREGORIAN
METHOD:PUBLISH
X-WR-CALNAME:The Scripteasers
X-ORIGINAL-URL:https://scripteasers.org
X-WR-CALDESC:Events for The Scripteasers
REFRESH-INTERVAL;VALUE=DURATION:PT1H
X-Robots-Tag:noindex
X-PUBLISHED-TTL:PT1H
BEGIN:VTIMEZONE
TZID:America/Los_Angeles
BEGIN:DAYLIGHT
TZOFFSETFROM:-0800
TZOFFSETTO:-0700
TZNAME:PDT
DTSTART:20240310T100000
END:DAYLIGHT
BEGIN:STANDARD
TZOFFSETFROM:-0700
TZOFFSETTO:-0800
TZNAME:PST
DTSTART:20241103T090000
END:STANDARD
BEGIN:DAYLIGHT
TZOFFSETFROM:-0800
TZOFFSETTO:-0700
TZNAME:PDT
DTSTART:20250309T100000
END:DAYLIGHT
BEGIN:STANDARD
TZOFFSETFROM:-0700
TZOFFSETTO:-0800
TZNAME:PST
DTSTART:20251102T090000
END:STANDARD
BEGIN:DAYLIGHT
TZOFFSETFROM:-0800
TZOFFSETTO:-0700
TZNAME:PDT
DTSTART:20260308T100000
END:DAYLIGHT
BEGIN:STANDARD
TZOFFSETFROM:-0700
TZOFFSETTO:-0800
TZNAME:PST
DTSTART:20261101T090000
END:STANDARD
END:VTIMEZONE
BEGIN:VEVENT
DTSTART;TZID=America/Los_Angeles:20251109T130000
DTEND;TZID=America/Los_Angeles:20251109T170000
DTSTAMP:20260423T143746
CREATED:20250718T022202Z
LAST-MODIFIED:20251030T114323Z
UID:13172-1762693200-1762707600@scripteasers.org
SUMMARY:In-Person Reading: Competition Winners
DESCRIPTION:Special In-Person Reading\nWinning plays from the\n2025 “Script Tease of Short Plays Competition”\n \nDate: Sunday\, November 9\n12:30 – Light refreshments\nReadings: 1:00 – 4:00 p.m.\nLocation: Lakeside Public Library\n12428 Woodside Avenue\nLakeside\, CA 92040\nLimited Seating! \nReadings begin promptly at 1 p.m.\,\nfollowed by a facilitated discussion.\nAfterwards\, gather with the playwrights and\nactors to discuss the plays.\n____________________________
URL:https://scripteasers.org/event/an-evening-of-one-acts-2/
LOCATION:Lakeside Public Library\, 12428 Woodside Avenue\, San Diego\, CA\, 92040\, United States
END:VEVENT
BEGIN:VEVENT
DTSTART;TZID=America/Los_Angeles:20251114T193000
DTEND;TZID=America/Los_Angeles:20251114T220000
DTSTAMP:20260423T143746
CREATED:20250907T054917Z
LAST-MODIFIED:20251030T212704Z
UID:13219-1763148600-1763157600@scripteasers.org
SUMMARY:Plays from 2025 Playwriting Competition
DESCRIPTION:
URL:https://scripteasers.org/event/an-evening-of-one-acts-3/
END:VEVENT
BEGIN:VEVENT
DTSTART;TZID=America/Los_Angeles:20251128T193000
DTEND;TZID=America/Los_Angeles:20251128T220000
DTSTAMP:20260423T143746
CREATED:20250718T023608Z
LAST-MODIFIED:20250911T000212Z
UID:13174-1764358200-1764367200@scripteasers.org
SUMMARY:Sixth Annual “Leftovers" Readings
DESCRIPTION:It’s our night of post-Thanksgiving readings\, featuring plays by playwrights\, actors and guests.  Guidelines: \n1. Short plays (15 pages).  Playwrights decide what “leftovers” (or “left overs”) means to them.  No prizes\, no judging and no play evaluations.  Just a casual and fun evening for all. \n2. Special note for actors and guests: if you’re not usually a playwright\, we want to hear what you have to say!  Send us your play in advance (PDF or Word doc)\, or bring it with you that evening (no later than 7:10 p.m.).  Regular playwrights are welcome too\, time permitting. \n3. Aspiring readers/actors: if you don’t usually read a role\, this is your chance!  Contact us in advance or drop by early (no later than 7:10).  Regular actors are always welcome. \nContact email: info@scripteasers.org \nLooking forward to seeing and hearing you!
URL:https://scripteasers.org/event/annual-leftovers-reading-drop-by/
END:VEVENT
END:VCALENDAR