BEGIN:VCALENDAR
VERSION:2.0
PRODID:-//The Scripteasers - ECPv6.15.20//NONSGML v1.0//EN
CALSCALE:GREGORIAN
METHOD:PUBLISH
X-WR-CALNAME:The Scripteasers
X-ORIGINAL-URL:https://scripteasers.org
X-WR-CALDESC:Events for The Scripteasers
REFRESH-INTERVAL;VALUE=DURATION:PT1H
X-Robots-Tag:noindex
X-PUBLISHED-TTL:PT1H
BEGIN:VTIMEZONE
TZID:America/Los_Angeles
BEGIN:DAYLIGHT
TZOFFSETFROM:-0800
TZOFFSETTO:-0700
TZNAME:PDT
DTSTART:20250309T100000
END:DAYLIGHT
BEGIN:STANDARD
TZOFFSETFROM:-0700
TZOFFSETTO:-0800
TZNAME:PST
DTSTART:20251102T090000
END:STANDARD
BEGIN:DAYLIGHT
TZOFFSETFROM:-0800
TZOFFSETTO:-0700
TZNAME:PDT
DTSTART:20260308T100000
END:DAYLIGHT
BEGIN:STANDARD
TZOFFSETFROM:-0700
TZOFFSETTO:-0800
TZNAME:PST
DTSTART:20261101T090000
END:STANDARD
BEGIN:DAYLIGHT
TZOFFSETFROM:-0800
TZOFFSETTO:-0700
TZNAME:PDT
DTSTART:20270314T100000
END:DAYLIGHT
BEGIN:STANDARD
TZOFFSETFROM:-0700
TZOFFSETTO:-0800
TZNAME:PST
DTSTART:20271107T090000
END:STANDARD
END:VTIMEZONE
BEGIN:VEVENT
DTSTART;TZID=America/Los_Angeles:20260208T130000
DTEND;TZID=America/Los_Angeles:20260208T160000
DTSTAMP:20260423T102534
CREATED:20260124T205633Z
LAST-MODIFIED:20260207T011623Z
UID:13434-1770555600-1770566400@scripteasers.org
SUMMARY:A Full-Length Play\, IN PERSON
DESCRIPTION:“STANDING ROOM ONLY” \nDate: Sunday\, February 8\n12:30 – Light refreshments\nReadings: 1:00 – 4:00 p.m.\nLocation: Lakeside Public Library\n12428 Woodside Avenue\nLakeside\, CA 92040\nLimited Seating! \nReading begins promptly at 1 p.m.\,\nfollowed by a facilitated discussion.\nAfterwards\, gather with the playwright\,\nactors and audience. \n(Please note: this is a full-length version\nof a play originally read in 2023.)\n____________________________
URL:https://scripteasers.org/event/full-length-play-in-person/
LOCATION:Lakeside Public Library\, 12428 Woodside Avenue\, San Diego\, CA\, 92040\, United States
END:VEVENT
BEGIN:VEVENT
DTSTART;TZID=America/Los_Angeles:20260222T190000
DTEND;TZID=America/Los_Angeles:20260222T213000
DTSTAMP:20260423T102534
CREATED:20260120T231405Z
LAST-MODIFIED:20260126T072350Z
UID:13397-1771786800-1771795800@scripteasers.org
SUMMARY:A Short Full-Length Play
DESCRIPTION:
URL:https://scripteasers.org/event/an-evening-of-new-one-acts/
END:VEVENT
END:VCALENDAR