BEGIN:VCALENDAR
VERSION:2.0
PRODID:-//The Scripteasers - ECPv6.15.20//NONSGML v1.0//EN
CALSCALE:GREGORIAN
METHOD:PUBLISH
X-WR-CALNAME:The Scripteasers
X-ORIGINAL-URL:https://scripteasers.org
X-WR-CALDESC:Events for The Scripteasers
REFRESH-INTERVAL;VALUE=DURATION:PT1H
X-Robots-Tag:noindex
X-PUBLISHED-TTL:PT1H
BEGIN:VTIMEZONE
TZID:America/Los_Angeles
BEGIN:DAYLIGHT
TZOFFSETFROM:-0800
TZOFFSETTO:-0700
TZNAME:PDT
DTSTART:20250309T100000
END:DAYLIGHT
BEGIN:STANDARD
TZOFFSETFROM:-0700
TZOFFSETTO:-0800
TZNAME:PST
DTSTART:20251102T090000
END:STANDARD
BEGIN:DAYLIGHT
TZOFFSETFROM:-0800
TZOFFSETTO:-0700
TZNAME:PDT
DTSTART:20260308T100000
END:DAYLIGHT
BEGIN:STANDARD
TZOFFSETFROM:-0700
TZOFFSETTO:-0800
TZNAME:PST
DTSTART:20261101T090000
END:STANDARD
BEGIN:DAYLIGHT
TZOFFSETFROM:-0800
TZOFFSETTO:-0700
TZNAME:PDT
DTSTART:20270314T100000
END:DAYLIGHT
BEGIN:STANDARD
TZOFFSETFROM:-0700
TZOFFSETTO:-0800
TZNAME:PST
DTSTART:20271107T090000
END:STANDARD
END:VTIMEZONE
BEGIN:VEVENT
DTSTART;TZID=America/Los_Angeles:20260517T190000
DTEND;TZID=America/Los_Angeles:20260517T220000
DTSTAMP:20260423T084612
CREATED:20260410T060352Z
LAST-MODIFIED:20260411T023911Z
UID:13606-1779044400-1779055200@scripteasers.org
SUMMARY:A New Full-Length!
DESCRIPTION:(Please note: This is the third Sunday of the month.)
URL:https://scripteasers.org/event/a-new-full-length-2/
END:VEVENT
BEGIN:VEVENT
DTSTART;TZID=America/Los_Angeles:20260531T130000
DTEND;TZID=America/Los_Angeles:20260531T160000
DTSTAMP:20260423T084612
CREATED:20260418T061859Z
LAST-MODIFIED:20260418T062124Z
UID:13652-1780232400-1780243200@scripteasers.org
SUMMARY:Special Afternoon In-Person Reading!
DESCRIPTION:Date: Sunday\, May 31\n12:30 – Light refreshments\nReading: 1:00 – 4:00 p.m.\nLocation: Lakeside Public Library\n12428 Woodside Avenue\nLakeside\, CA 92040\nLimited Seating! \nReading begins promptly at 1 p.m.\,\nfollowed by a facilitated discussion.\nAfterwards\, gather with the playwright\,\nactors and audience.\n__________________________________ \nPlay/Author: TBA
URL:https://scripteasers.org/event/special-afternoon-in-person-reading-2/
END:VEVENT
END:VCALENDAR